BEGIN:VCALENDAR
VERSION:2.0
PRODID:-//Brooklyn Bridge Park//Events//EN
METHOD:PUBLISH
BEGIN:VEVENT
UID:c65cdc2f76fc7609a4718d4066747888@brooklynbridgepark.org
DTSTAMP:20260424T105835Z
DTSTART:20261017T110000
DTEND:20261017T150000
SUMMARY:Harvest Festival
DESCRIPTION:Brooklyn Bridge Park&#8217;s annual fall Harvest Festival returns to close out the season!\nJoin for day of autumnal fun for the whole family. This family-friendly celebration offers live music, arts and crafts, storytelling, lawn games, face-painting, educational activities and more. Check back for details.
LOCATION:Pier 6
URL:https://brooklynbridgepark.org/event/harvest-festival/
END:VEVENT
END:VCALENDAR
