BEGIN:VCALENDAR
VERSION:2.0
PRODID:-//Brooklyn Bridge Park//Events//EN
METHOD:PUBLISH
BEGIN:VEVENT
UID:1f5c825c936861492cc3a8c551cec5ac@brooklynbridgepark.org
DTSTAMP:20260421T100019Z
DTSTART:20260307T080000
DTEND:20260307T120000
SUMMARY:Spring Soccer Leagues: Youth Games Kickoff
DESCRIPTION:Our youth soccer league kicks off their spring 2026 season! Learn more and join our leagues here.\nDue to snow/ice, Pier 5 turf is closed and league start dates are postponed a week. Registration has been extended.
LOCATION:Soccer Fields &#8211; Pier 5
URL:https://brooklynbridgepark.org/event/spring-soccer-leagues-youth-games-kickoff/
END:VEVENT
END:VCALENDAR
