BEGIN:VCALENDAR
VERSION:2.0
PRODID:-//Brooklyn Bridge Park//Events//EN
METHOD:PUBLISH
BEGIN:VEVENT
UID:b78d3bfe797599b0ef35c07579183924@brooklynbridgepark.org
DTSTAMP:20260421T111159Z
DTSTART:20260526T183000
DTEND:20260526T200000
SUMMARY:Waterfront Walks - May 26
DESCRIPTION:Waterfronts Walks are made possible thanks to a generous gift in memory of Robert Auerbach.\nJoin our docents for a free walking tour to learn about the history of the Brooklyn waterfront, Brooklyn Bridge Park’s sustainable design and ecology, and how the Park came to life! Tours last roughly 60-90 minutes, starting from the entrance of Pier 1 and finishing near Pier 3.\nWaterfront Walks take place on select Sundays (10:30 AM) and Tuesdays (6:30 PM May-August and 6:00 PM in September-October) between May and October. View all upcoming dates here.\nAdvance registration is required. Registration opens a month in advance of each date.\nRegister Now!\nFull details, including the meeting location, will be emailed to registered attendees a few days prior to the event.  \nAccessibility note: The tour may involve steps, but a step-free route is available upon request.  
LOCATION:Fulton Ferry Landing
URL:https://brooklynbridgepark.org/event/waterfront-walks-may-26/
END:VEVENT
END:VCALENDAR
