BEGIN:VCALENDAR
VERSION:2.0
PRODID:-//Brooklyn Bridge Park//Events//EN
METHOD:PUBLISH
BEGIN:VEVENT
UID:4cb1721372a00294160351bce0aba3d8@brooklynbridgepark.org
DTSTAMP:20260420T130103Z
DTSTART:20260725T120000
DTEND:20260725T140000
SUMMARY:What Lives in the East River? - July 25
DESCRIPTION:Discover the amazing biodiversity of the East River as you get hands-on and up close with our marine life touch tank. Participants 14 years of age or older can learn how to use a seine net to humanely catch and release organisms in the river. Protective waders and all equipment will be provided. This is a free program.\nRegister Now!\nAccessibility Note: Please reach out to education@bbp.nyc for any accessibility needs or questions. This program takes place on Pier 4 beach where the terrain is sandy and rocky. There is no shaded areas available, expect full sun. There is no seating provided, but there are rocky steps nearby. Closest bathrooms are at the boathouse around 460ft from the beach, at the Boathouse.
LOCATION:Pier 4 Beach
URL:https://brooklynbridgepark.org/event/what-lives-in-the-east-river-july-25/
END:VEVENT
END:VCALENDAR
